BEGIN:VCALENDAR
VERSION:2.0
PRODID:-//Griendencollege - ECPv6.15.11//NONSGML v1.0//EN
CALSCALE:GREGORIAN
METHOD:PUBLISH
X-ORIGINAL-URL:https://griendencollege.nl
X-WR-CALDESC:Evenementen voor Griendencollege
REFRESH-INTERVAL;VALUE=DURATION:PT1H
X-Robots-Tag:noindex
X-PUBLISHED-TTL:PT1H
BEGIN:VTIMEZONE
TZID:Europe/Amsterdam
BEGIN:DAYLIGHT
TZOFFSETFROM:+0100
TZOFFSETTO:+0200
TZNAME:CEST
DTSTART:20240331T010000
END:DAYLIGHT
BEGIN:STANDARD
TZOFFSETFROM:+0200
TZOFFSETTO:+0100
TZNAME:CET
DTSTART:20241027T010000
END:STANDARD
BEGIN:DAYLIGHT
TZOFFSETFROM:+0100
TZOFFSETTO:+0200
TZNAME:CEST
DTSTART:20250330T010000
END:DAYLIGHT
BEGIN:STANDARD
TZOFFSETFROM:+0200
TZOFFSETTO:+0100
TZNAME:CET
DTSTART:20251026T010000
END:STANDARD
BEGIN:DAYLIGHT
TZOFFSETFROM:+0100
TZOFFSETTO:+0200
TZNAME:CEST
DTSTART:20260329T010000
END:DAYLIGHT
BEGIN:STANDARD
TZOFFSETFROM:+0200
TZOFFSETTO:+0100
TZNAME:CET
DTSTART:20261025T010000
END:STANDARD
END:VTIMEZONE
BEGIN:VEVENT
DTSTART;VALUE=DATE:20250219
DTEND;VALUE=DATE:20250220
DTSTAMP:20260421T171435
CREATED:20240930T101548Z
LAST-MODIFIED:20240930T101548Z
UID:8782-1739923200-1740009599@griendencollege.nl
SUMMARY:Masterclass MAVO en techniek
DESCRIPTION:
URL:https://griendencollege.nl/evenement/masterclass-mavo-en-techniek/
END:VEVENT
BEGIN:VEVENT
DTSTART;VALUE=DATE:20250219
DTEND;VALUE=DATE:20250220
DTSTAMP:20260421T171435
CREATED:20240930T101609Z
LAST-MODIFIED:20240930T101609Z
UID:8785-1739923200-1740009599@griendencollege.nl
SUMMARY:MOL-gesprekken
DESCRIPTION:
URL:https://griendencollege.nl/evenement/mol-gesprekken-8/
END:VEVENT
END:VCALENDAR